BEGIN:VCALENDAR
VERSION:2.0
PRODID:-//GBSB Global​ - ECPv6.15.15//NONSGML v1.0//EN
CALSCALE:GREGORIAN
METHOD:PUBLISH
X-ORIGINAL-URL:https://www.global-business-school.org
X-WR-CALDESC:Events for GBSB Global​
REFRESH-INTERVAL;VALUE=DURATION:PT1H
X-Robots-Tag:noindex
X-PUBLISHED-TTL:PT1H
BEGIN:VTIMEZONE
TZID:Europe/Madrid
BEGIN:DAYLIGHT
TZOFFSETFROM:+0100
TZOFFSETTO:+0200
TZNAME:CEST
DTSTART:20250330T010000
END:DAYLIGHT
BEGIN:STANDARD
TZOFFSETFROM:+0200
TZOFFSETTO:+0100
TZNAME:CET
DTSTART:20251026T010000
END:STANDARD
BEGIN:DAYLIGHT
TZOFFSETFROM:+0100
TZOFFSETTO:+0200
TZNAME:CEST
DTSTART:20260329T010000
END:DAYLIGHT
BEGIN:STANDARD
TZOFFSETFROM:+0200
TZOFFSETTO:+0100
TZNAME:CET
DTSTART:20261025T010000
END:STANDARD
BEGIN:DAYLIGHT
TZOFFSETFROM:+0100
TZOFFSETTO:+0200
TZNAME:CEST
DTSTART:20270328T010000
END:DAYLIGHT
BEGIN:STANDARD
TZOFFSETFROM:+0200
TZOFFSETTO:+0100
TZNAME:CET
DTSTART:20271031T010000
END:STANDARD
END:VTIMEZONE
BEGIN:VEVENT
DTSTART;TZID=Europe/Madrid:20260312T100000
DTEND;TZID=Europe/Madrid:20260312T170000
DTSTAMP:20260423T202526
CREATED:20260218T180439Z
LAST-MODIFIED:20260225T102020Z
UID:10000056-1773309600-1773334800@www.global-business-school.org
SUMMARY:MEET THE TEAM | MADRID
DESCRIPTION:Rated excellent by QS World University Rankings Stop Guessing. Meet Jaderson in Madrid.One conversation with our Regional Manager tells you exactly what your application needs\n\nREGISTER\n\n\n\n\n\n\n\nStop guessing. Start applying. \n\n\n\nCome meet Jaderson Grangeiro\, our Regional Manager\, at our Madrid campus on March 12. In one conversation\, you’ll know exactly what your application needs and what comes next. \n\n\n\nBook your slot by messaging Jaderson on WhatsApp or by email. \n\n\n\n\n\n\n\n\n\n\n\n\n\n\n\n\n\n\n\n\n\n\n\n\n\n\n\n\n\n\n\n\n\n\n\n\n\nPlus\, as a thank you for investing in your future\, every attendee will walk away with an application fee waiver. \n\n\n\n\n\n\n\nEvent Details:\n\n\n\n📅 Date: March 12\, 2026🕒 Time: 10:00 – 17:00📍 Venue: GBSB Global Madrid Campus\, Calle Valores 1\, Retiro\, 28007 Madrid📞 Contact: Jaderson Grangeiro | jaderson.grangeiro@staff.gbsb.global | +55 61 982 157 605 (WhatsApp) \n\n\n\n\n\n\n\nReady to Talk?Message Jaderson on WhatsApp or by email to book your meeting at our Madrid campus on March 12. \n\nEmail Jaderson\n\n\n\n\n\nWhatsApp Jaderson
URL:https://www.global-business-school.org/event/meet-the-team-madrid/
ATTACH;FMTTYPE=image/jpeg:https://www.global-business-school.org/wp-content/uploads/2025/10/DSCF3041-1-scaled.jpg
END:VEVENT
END:VCALENDAR