BEGIN:VCALENDAR
VERSION:2.0
PRODID:-//GBSB Global​ - ECPv6.15.15//NONSGML v1.0//EN
CALSCALE:GREGORIAN
METHOD:PUBLISH
X-WR-CALNAME:GBSB Global​
X-ORIGINAL-URL:https://www.global-business-school.org
X-WR-CALDESC:Events for GBSB Global​
REFRESH-INTERVAL;VALUE=DURATION:PT1H
X-Robots-Tag:noindex
X-PUBLISHED-TTL:PT1H
BEGIN:VTIMEZONE
TZID:Europe/Madrid
BEGIN:DAYLIGHT
TZOFFSETFROM:+0100
TZOFFSETTO:+0200
TZNAME:CEST
DTSTART:20250330T010000
END:DAYLIGHT
BEGIN:STANDARD
TZOFFSETFROM:+0200
TZOFFSETTO:+0100
TZNAME:CET
DTSTART:20251026T010000
END:STANDARD
BEGIN:DAYLIGHT
TZOFFSETFROM:+0100
TZOFFSETTO:+0200
TZNAME:CEST
DTSTART:20260329T010000
END:DAYLIGHT
BEGIN:STANDARD
TZOFFSETFROM:+0200
TZOFFSETTO:+0100
TZNAME:CET
DTSTART:20261025T010000
END:STANDARD
BEGIN:DAYLIGHT
TZOFFSETFROM:+0100
TZOFFSETTO:+0200
TZNAME:CEST
DTSTART:20270328T010000
END:DAYLIGHT
BEGIN:STANDARD
TZOFFSETFROM:+0200
TZOFFSETTO:+0100
TZNAME:CET
DTSTART:20271031T010000
END:STANDARD
END:VTIMEZONE
BEGIN:VEVENT
DTSTART;TZID=Europe/Madrid:20260310T100000
DTEND;TZID=Europe/Madrid:20260310T170000
DTSTAMP:20260423T184307
CREATED:20260218T175445Z
LAST-MODIFIED:20260224T140543Z
UID:10000055-1773136800-1773162000@www.global-business-school.org
SUMMARY:MEET THE TEAM | BARCELONA
DESCRIPTION:Rated excellent by QS World University Rankings Get the Answers. Meet Jaderson in BarcelonaSkip the back-and-forth emails. Meet Jaderson and get clear answers about your application.\n\n\n\nREGISTER\n\n\n\n\n\n\n\n\n\nOne conversation. Walk out knowing your next step. \n\n\n\nMeet Jaderson Grangeiro\, our Regional Manager\, at our Barcelona campus on March 10. Ask about programs\, applications\, scholarships\, or visas — and get a real answer on the spot. \n\n\n\nNo forms. No sales pitch. Just clarity. \n\n\n\n\n\n\n\n\n\n\n\n\n\n\n\n\n\n\n\n\n\n\n\n\n\n\n\n\n\n\n\n\n\n\n\n\n\nPlus\, as a thank you for investing in your future\, every attendee will walk away with an application fee waiver. \n\n\n\n\n\n\n\nEvent Details:\n\n\n\n📅 Date: Tuesday\, March 10\, 2026🕒 Time: 10:00 – 17:00📍 Venue: GBSB Global Barcelona Campus\, Carrer d’Aragó\, 179\, L’Eixample\, 08011 Barcelona📞 Contact: Jaderson Grangeiro | jaderson.grangeiro@staff.gbsb.global | +55 61 982 157 605 (WhatsApp) \n\n\n\n\n\n\n\nReady to Talk?Message Jaderson directly on WhatsApp or by email. He’s only in Barcelona on March 10 — drop in anytime between 10:00 and 17:00. \n\nEmail Jaderson\n\n\n\n\n\nWhatsApp Jaderson
URL:https://www.global-business-school.org/event/meet-the-team-barcelona/
ATTACH;FMTTYPE=image/jpeg:https://www.global-business-school.org/wp-content/uploads/2025/11/subbotina-212-из-126-scaled.jpg
END:VEVENT
END:VCALENDAR